BEGIN:VCALENDAR
VERSION:2.0
PRODID:-//NABILE.cz - ECPv4.7.3//NONSGML v1.0//EN
CALSCALE:GREGORIAN
METHOD:PUBLISH
X-WR-CALNAME:NABILE.cz
X-ORIGINAL-URL:https://www.nabile.cz
X-WR-CALDESC:Events for NABILE.cz
BEGIN:VEVENT
DTSTART;VALUE=DATE:20260502
DTEND;VALUE=DATE:20260503
DTSTAMP:20260420T014237
CREATED:20260407T124920Z
LAST-MODIFIED:20260407T124920Z
UID:10366-1777680000-1777766399@www.nabile.cz
SUMMARY:CZECH LUMBERJACK
DESCRIPTION:Závody v dřevorubeckém sportu CZECH LUMBERJACK – BÍLÁ 2026 \n
URL:https://www.nabile.cz/udalost/czech-lumberjack/
LOCATION:Bílá\, RESORT BÍLÁ | BESKYDY\, Bílá\, Moravskoslezský\, 739 15\, Česká republika
END:VEVENT
END:VCALENDAR