BEGIN:VCALENDAR
VERSION:2.0
PRODID:-//NABILE.cz - ECPv4.7.3//NONSGML v1.0//EN
CALSCALE:GREGORIAN
METHOD:PUBLISH
X-WR-CALNAME:NABILE.cz
X-ORIGINAL-URL:https://www.nabile.cz
X-WR-CALDESC:Events for NABILE.cz
BEGIN:VEVENT
DTSTART;TZID=Europe/Prague:20200817T073000
DTEND;TZID=Europe/Prague:20200821T160000
DTSTAMP:20260419T131257
CREATED:20200116T090828Z
LAST-MODIFIED:20200116T090828Z
UID:4546-1597649400-1598025600@www.nabile.cz
SUMMARY:Výjezdový Tábor - Bílá čaruje
DESCRIPTION:5-denní výjezdový tábor pro děti od 4 do 11 let \nTermín: 17. 8. – 21. 8. 2020\nMísto konání: RESORT BÍLÁ | BESKYDY\nCena: 2 700Kč / 2 450Kč bez dopravy \nNáplň: \nCena zahrnuje:\n5 dní program\, práci instruktorů\, stravování (oběd\, 2x svačina)\, pitný režim\, 5x dopravu z Ostravy a zpět (nástup na trase možný)\, každodenní vstup do dětského letního parku\, drobné odměny a diplom\, pojištění odpovědnosti\, úrazové pojištění a pojištění zrušení (přerušení účasti na táboře). \nPřihlášky:\nPro přihlášení využijte on-line systém na www.prihlaskanakurz.cz.\nPřed prvním přihlášením na akci je potřeba kliknout na ZAREGISTROVAT SE a vytvoříte si uživatelský účet. Poté v kategorii LETNÍ AKCE\, kliknete na VYTVOŘIT PŘIHLÁŠKU Vámi vybrané akce a vyplníte jednoduchý přihlašovací formulář.\nPřihlášky podávejte nejpozději do 31.5.2020. Při přihlášení a úhradě po 31.5.2020 je cena navýšena o administrativní poplatek ve výši 100 Kč. \nV případě nemoci dítěte:\nV ceně táboru je zahrnuto úrazové pojištění\, pojištění zavazadel\, pojištění odpovědnosti za škodu\, pojištění nevyužité cestovní služby a dodatkové pojištění pro případ zrušení cestovní služby na území ČR u Kooperativa pojišťovna a.s. Při nemoci dítěte (jak před\, tak během kurzu) tedy dostanete od pojišťovny zpět 80% zaplacené částky! Budete potřebovat potvrzení od lékaře\, potvrzení o zaplacení kurzu a vyplněný formulář pojišťovny. Pojištění se řídí všeobecnými pojistnými podmínkami pro cestovní pojištění Kolumbus a Kolumbus – Abonent M – 750/09 (naleznete na www.koop.cz). Podrobné informace k pojištění\, výše plnění a předvyplněný formulář naleznete na www.prihlaskanakurz.cz\, v sekci Informace o kurzech. Formulář prosím vyplňte a spolu s potvrzením od lékaře a potvrzením o zaplacení kurzu zašlete na naši adresu. \nDoprava\, nástupní místa (jedná se o objednaný autobus): \nOstrava – parkoviště před Domem kultury města Ostravy odjezd 7:30 příjezd 16:45\nFrýdek-Místek – parkoviště LIDL – ul. Frýdlantská odjezd 7:50 příjezd 16:25\nFrýdlant nad Ostravicí – před nádražím ČD odjezd 8:05 příjezd 16:10\nOstravice – parkoviště naproti nádraží ČD\, u silnice č. 56 odjezd 8:15 příjezd 16:00 \nSraz na Bílé je před kanceláří Dětského letního parku v 8:30\, ukončení v 15:45 hod. \nPlatba:\nČíslo účtu: 43-6854260217/0100\nKonstantní symbol: 0308\nVariabilní symbol: Datum narození dítěte v podobě ddmmrrrr\nZpráva pro příjemce: Jméno a příjmení dítěte\, „Cesta za pokladem – výjezdový“ \nPlatbu je možné rozdělit na zálohu a doplatek. Záloha (1 000 Kč) je splatná nejpozději do 31. 5. 2020\, doplatek do 30. 7. 2020. \nE-mail: info@nabile.cz\nwww.nabile.cz \nFree Download WordPress ThemesPremium WordPress Themes DownloadDownload WordPress Themes FreePremium WordPress Themes DownloadZG93bmxvYWQgbHluZGEgY291cnNlIGZyZWU=download lava firmwareDownload Nulled WordPress Themesudemy free download
URL:https://www.nabile.cz/udalost/vyjezdovy-tabor-bila-caruje/
LOCATION:RESORT BÍLÁ | BESKYDY\, Bílá 173\, Bílá\, Moravskoslezský\, 739 15\, Česká republika
ATTACH;FMTTYPE=image/jpeg:https://www.nabile.cz/wp-content/uploads/2020/01/pt1.jpg
ORGANIZER;CN="SUN%20Outdoor%2C%20spolek":MAILTO:info@nabile.cz
END:VEVENT
END:VCALENDAR